BEGIN:VCALENDAR
VERSION:2.0
PRODID:-//Art of HR - ECPv6.6.4.2//NONSGML v1.0//EN
CALSCALE:GREGORIAN
METHOD:PUBLISH
X-ORIGINAL-URL:https://artofhr.craftedbyfoe.com
X-WR-CALDESC:Events for Art of HR
REFRESH-INTERVAL;VALUE=DURATION:PT1H
X-Robots-Tag:noindex
X-PUBLISHED-TTL:PT1H
BEGIN:VTIMEZONE
TZID:America/Vancouver
BEGIN:DAYLIGHT
TZOFFSETFROM:-0800
TZOFFSETTO:-0700
TZNAME:PDT
DTSTART:20240310T100000
END:DAYLIGHT
BEGIN:STANDARD
TZOFFSETFROM:-0700
TZOFFSETTO:-0800
TZNAME:PST
DTSTART:20241103T090000
END:STANDARD
END:VTIMEZONE
BEGIN:VEVENT
DTSTART;VALUE=DATE:20241114
DTEND;VALUE=DATE:20241115
DTSTAMP:20260420T184412
CREATED:20240416T203539Z
LAST-MODIFIED:20240626T205442Z
UID:16163-1731542400-1731628799@artofhr.craftedbyfoe.com
SUMMARY:The Power of Appreciation
DESCRIPTION:Everyone wants to feel valued at work.  Regardless of age\, background\, or job title\, humans long for a sense of connection and the knowledge that their presence means something to the people around them.  For any leader in today’s workplace\, there is immense power in being able to show individual team members that they matter and how the workplace is better because they are in it. \n\nThis 90-minute course will teach you effective ways to connect with your staff through the art of appreciation. You will learn how to detect the different preferences that employees have\, beyond hearing the simple words of “thank you.” \n\nThrough this session\, you will discover new ways to show gratitude on a sincere person-to-person basis\, which in turn will benefit your whole organization with a greater sense of overall engagement and morale. \n\nLearn to:\n\n 	Distinguish between the separate actions of recognition versus appreciation;\n 	Identify how personal barriers and blind spots can impede authentic appreciation; and\n 	Understand how different approaches to appreciation enhance overall workplace culture.\n\nThe course fee varies between $60 and $85 depending on the ticket type. \n\nThe next session will take place on November 14\, 2024\, between 9 am – 10:30 am (PST\, Vancouver).
URL:https://artofhr.craftedbyfoe.com/course/appreciation-at-work-2/
LOCATION:Virtual
CATEGORIES:Communication,Diversity and Inclusion,Elective,General,People Management
ATTACH;FMTTYPE=image/jpeg:https://artofhr.craftedbyfoe.com/wp-content/uploads/2024/06/Engaged-Course-39.jpg
END:VEVENT
END:VCALENDAR