BEGIN:VCALENDAR
VERSION:2.0
PRODID:-//Art of HR - ECPv6.6.4.2//NONSGML v1.0//EN
CALSCALE:GREGORIAN
METHOD:PUBLISH
X-ORIGINAL-URL:https://artofhr.craftedbyfoe.com
X-WR-CALDESC:Events for Art of HR
REFRESH-INTERVAL;VALUE=DURATION:PT1H
X-Robots-Tag:noindex
X-PUBLISHED-TTL:PT1H
BEGIN:VTIMEZONE
TZID:America/Vancouver
BEGIN:DAYLIGHT
TZOFFSETFROM:-0800
TZOFFSETTO:-0700
TZNAME:PDT
DTSTART:20240310T100000
END:DAYLIGHT
BEGIN:STANDARD
TZOFFSETFROM:-0700
TZOFFSETTO:-0800
TZNAME:PST
DTSTART:20241103T090000
END:STANDARD
END:VTIMEZONE
BEGIN:VEVENT
DTSTART;VALUE=DATE:20241204
DTEND;VALUE=DATE:20241205
DTSTAMP:20260420T134305
CREATED:20231117T181048Z
LAST-MODIFIED:20240704T164120Z
UID:15845-1733270400-1733356799@artofhr.craftedbyfoe.com
SUMMARY:Advanced Workplace Communication
DESCRIPTION:Elevate your career by mastering the art of workplace communication. In this dynamic course\, you’ll learn how to craft powerful messages\, convey ideas with clarity\, and strengthen connections with your colleagues and clients. \n\nBuilding on Effective Workplace Communication\, this 3-hour course will equip you with the communication tools necessary to lead and support your staff through a range of necessary\, and important\, workplace conversations. \n\nYou will learn to:\n\n 	Examine the types of conversations that happen at work;\n 	Engage in conversations with curiosity and a coaching mindset;\n 	Increase self-awareness of how your values impact communication; and\n 	Increase self-regulation in communication.\n\nBefore taking this course we recommend taking Effective Workplace Communication. \n\nThe course fee varies between $99 and $149 depending on the ticket type. \n\nThis course will take place on December 4\, 2024\, between 9 am – 12 pm (PST\, Vancouver).
URL:https://artofhr.craftedbyfoe.com/course/advanced-workplace-communication/
LOCATION:Virtual
CATEGORIES:Communication,Diversity and Inclusion,Elective,General,People Management
ATTACH;FMTTYPE=image/jpeg:https://artofhr.craftedbyfoe.com/wp-content/uploads/2024/06/Engaged-Course-32.jpg
END:VEVENT
END:VCALENDAR