BEGIN:VCALENDAR
VERSION:2.0
PRODID:-//Art of HR - ECPv6.6.4.2//NONSGML v1.0//EN
CALSCALE:GREGORIAN
METHOD:PUBLISH
X-ORIGINAL-URL:https://artofhr.craftedbyfoe.com
X-WR-CALDESC:Events for Art of HR
REFRESH-INTERVAL;VALUE=DURATION:PT1H
X-Robots-Tag:noindex
X-PUBLISHED-TTL:PT1H
BEGIN:VTIMEZONE
TZID:America/Vancouver
BEGIN:DAYLIGHT
TZOFFSETFROM:-0800
TZOFFSETTO:-0700
TZNAME:PDT
DTSTART:20240310T100000
END:DAYLIGHT
BEGIN:STANDARD
TZOFFSETFROM:-0700
TZOFFSETTO:-0800
TZNAME:PST
DTSTART:20241103T090000
END:STANDARD
END:VTIMEZONE
BEGIN:VEVENT
DTSTART;VALUE=DATE:20241120
DTEND;VALUE=DATE:20241121
DTSTAMP:20260420T134043
CREATED:20240625T051907Z
LAST-MODIFIED:20240626T210748Z
UID:16255-1732060800-1732147199@artofhr.craftedbyfoe.com
SUMMARY:Embracing Transparency in Pay Conversations
DESCRIPTION:Pay transparency legislation has started conversations that many managers feel ill-equipped to manage. Understanding the complex landscape of pay conversations has become a key skill for leaders and managers in today’s workplace. \n\nThis course is designed to equip you with the essential knowledge and skills to understand the different legal frameworks related to pay and to handle salary and benefit discussions effectively. \n\nBy the end of this course\, you will be better prepared to navigate the complexities of salary negotiations\, ensuring fair and compliant outcomes that benefit both the organization and its employees. \n\nJoin us for this comprehensive\, interactive course and take your pay negotiation skills to the next level! \n\nIn this virtual course\, you will:\n\n 	Understand the legal aspects of pay conversations in Canada.\n 	Learn best practices for negotiating salaries and benefits.\n 	Develop skills to handle pay conversations effectively through role-play scenarios.\n\nThe course fee varies between $99 and $149 depending on the ticket type. \n\nThe next session will take place on November 20\, 2024\, between 9 am – 12 pm (PST\, Vancouver).
URL:https://artofhr.craftedbyfoe.com/course/embracing-transparency-in-pay-conversations/
LOCATION:Virtual
CATEGORIES:Communication,Elective,General,Performance Management
ATTACH;FMTTYPE=image/jpeg:https://artofhr.craftedbyfoe.com/wp-content/uploads/2024/06/Engaged-Course-35.jpg
END:VEVENT
END:VCALENDAR