BEGIN:VCALENDAR
VERSION:2.0
PRODID:-//Art of HR - ECPv6.6.4.2//NONSGML v1.0//EN
CALSCALE:GREGORIAN
METHOD:PUBLISH
X-WR-CALNAME:Art of HR
X-ORIGINAL-URL:https://artofhr.craftedbyfoe.com
X-WR-CALDESC:Events for Art of HR
REFRESH-INTERVAL;VALUE=DURATION:PT1H
X-Robots-Tag:noindex
X-PUBLISHED-TTL:PT1H
BEGIN:VTIMEZONE
TZID:America/Vancouver
BEGIN:DAYLIGHT
TZOFFSETFROM:-0800
TZOFFSETTO:-0700
TZNAME:PDT
DTSTART:20240310T100000
END:DAYLIGHT
BEGIN:STANDARD
TZOFFSETFROM:-0700
TZOFFSETTO:-0800
TZNAME:PST
DTSTART:20241103T090000
END:STANDARD
END:VTIMEZONE
BEGIN:VEVENT
DTSTART;VALUE=DATE:20241127
DTEND;VALUE=DATE:20241128
DTSTAMP:20260420T121619
CREATED:20240416T204230Z
LAST-MODIFIED:20240625T040558Z
UID:16169-1732665600-1732751999@artofhr.craftedbyfoe.com
SUMMARY:Managing Performance in Challenging Situations
DESCRIPTION:Confidently managing performance and maneuvering tough situations is a requirement of strong leadership. Our specialized course is designed to equip you with the essential skills and techniques to motivate\, mentor\, and address performance concerns with confidence. \n\nYou will gain insights into performance assessment\, constructive feedback delivery\, conflict resolution and other core competencies that enable you to lead with professionalism and poise. \nElevate your leadership skills and excel at the art of navigating challenging workplace situations with this expert-led course. \n\nIn this virtual workshop you will learn to:\n\n 	Recognize and overcome common barriers to effective performance management communication;\n 	Describe behavioural attitudes that inhibit high performance in self or others;\n 	Design a performance improvement plan; and\n 	Describe how competencies in performance management assist career planning and succession and continuity planning.\n\nBefore taking this course we recommend taking Getting Started With Performance Management. \n\nThe course fee varies between $249 and $349 depending on the ticket type. \n\nThis course will take place on November 27 and 29\, 2024\, between 9 am – 12 pm (PST\, Vancouver). 
URL:https://artofhr.craftedbyfoe.com/course/managing-performance-in-challenging-situations-2/
LOCATION:Virtual
CATEGORIES:Elective,General,Leadership,Performance Management
ATTACH;FMTTYPE=image/jpeg:https://artofhr.craftedbyfoe.com/wp-content/uploads/2024/06/Engaged-Course-13.jpg
END:VEVENT
END:VCALENDAR