BEGIN:VCALENDAR
VERSION:2.0
PRODID:-//Art of HR - ECPv6.6.4.2//NONSGML v1.0//EN
CALSCALE:GREGORIAN
METHOD:PUBLISH
X-WR-CALNAME:Art of HR
X-ORIGINAL-URL:https://artofhr.craftedbyfoe.com
X-WR-CALDESC:Events for Art of HR
REFRESH-INTERVAL;VALUE=DURATION:PT1H
X-Robots-Tag:noindex
X-PUBLISHED-TTL:PT1H
BEGIN:VTIMEZONE
TZID:America/Vancouver
BEGIN:DAYLIGHT
TZOFFSETFROM:-0800
TZOFFSETTO:-0700
TZNAME:PDT
DTSTART:20240310T100000
END:DAYLIGHT
BEGIN:STANDARD
TZOFFSETFROM:-0700
TZOFFSETTO:-0800
TZNAME:PST
DTSTART:20241103T090000
END:STANDARD
END:VTIMEZONE
BEGIN:VEVENT
DTSTART;VALUE=DATE:20240924
DTEND;VALUE=DATE:20240925
DTSTAMP:20260420T184601
CREATED:20231121T212121Z
LAST-MODIFIED:20240624T040506Z
UID:15934-1727136000-1727222399@artofhr.craftedbyfoe.com
SUMMARY:Successful Interviewing Strategies
DESCRIPTION:Ready to identify top talent and build high-performance teams remotely or on-site? Our program offers a deep dive into effective interviewing\, evaluating responses\, body language and the art of creating structured\, insightful\, and legally compliant interview processes. From crafting the right interview questions to assessing candidates fairly\, you will gain the skills and techniques necessary to make confident hiring decisions. \n\nEnroll today to enhance your hiring abilities\, reduce turnover\, and stay compliant. \n\nYou will learn to:\n\n 	Design an effective interview process that leaves a positive impression;\n 	Ask the questions that matter most (and avoid what not to ask); and\n 	Identify values alignment during interviews.\n\nThe course fee varies between $249 and $349 depending on the ticket type. \n\nThis course will take place on September 24 and 26\, 2024\, between 9 am – 12 pm (PDT\, Vancouver).
URL:https://artofhr.craftedbyfoe.com/course/successful-interviewing-strategies/
LOCATION:Virtual
CATEGORIES:Elective,Interviewing
ATTACH;FMTTYPE=image/jpeg:https://artofhr.craftedbyfoe.com/wp-content/uploads/2024/06/Interviewing-Strategies-1.jpg
END:VEVENT
BEGIN:VEVENT
DTSTART;VALUE=DATE:20240918
DTEND;VALUE=DATE:20240919
DTSTAMP:20260420T184601
CREATED:20240413T030441Z
LAST-MODIFIED:20240626T210542Z
UID:16020-1726617600-1726703999@artofhr.craftedbyfoe.com
SUMMARY:Effective Workplace Communication
DESCRIPTION:Interested in communicating with impact\, influencing your peers\, and leading with clarity? Learn how to articulate your thoughts\, build strong professional relationships\, and excel in active listening and persuasive communication. \n\nDuring this 3-hour session\, you will explore what it takes to clearly and intentionally engage others in meaningful conversation. This course will transform your ability to connect\, collaborate\, and thrive in the modern workplace and participants will have the opportunity to practice multiple techniques that encourage dialogue between colleagues and clients. \n\nYou will learn to:\n\n 	Explore the two-way communication model;\n 	Examine the building blocks of effective communication: the attitude of empathy\, non-verbal cues and body language\, active listening\, use of questions\, and paraphrasing; and\n 	Identify potential communication roadblocks.\n\nThis essential workshop is highly recommended in conjunction with other Engaged courses and is a mandatory requirement for “The Art of HR” Certificate Program. Join us to unleash your communication prowess and accelerate your professional success. \n\nThe course fee varies between $99 and $149 depending on the ticket type. \n\nThis course will take place on September 18\, 2024\, between 9 am – 12 pm (PDT\, Vancouver).
URL:https://artofhr.craftedbyfoe.com/course/effective-workplace-communication-2/
LOCATION:Virtual
CATEGORIES:Communication,Core,General,People Management
ATTACH;FMTTYPE=image/jpeg:https://artofhr.craftedbyfoe.com/wp-content/uploads/2024/06/Engaged-Course-37.jpg
END:VEVENT
END:VCALENDAR